BEGIN:VCALENDAR
VERSION:2.0
PRODID:-//Katarina Willems - ECPv6.15.20//NONSGML v1.0//EN
CALSCALE:GREGORIAN
METHOD:PUBLISH
X-WR-CALNAME:Katarina Willems
X-ORIGINAL-URL:https://www.katarina-willems.de
X-WR-CALDESC:Veranstaltungen für Katarina Willems
REFRESH-INTERVAL;VALUE=DURATION:PT1H
X-Robots-Tag:noindex
X-PUBLISHED-TTL:PT1H
BEGIN:VTIMEZONE
TZID:Europe/Berlin
BEGIN:DAYLIGHT
TZOFFSETFROM:+0100
TZOFFSETTO:+0200
TZNAME:CEST
DTSTART:20250330T010000
END:DAYLIGHT
BEGIN:STANDARD
TZOFFSETFROM:+0200
TZOFFSETTO:+0100
TZNAME:CET
DTSTART:20251026T010000
END:STANDARD
BEGIN:DAYLIGHT
TZOFFSETFROM:+0100
TZOFFSETTO:+0200
TZNAME:CEST
DTSTART:20260329T010000
END:DAYLIGHT
BEGIN:STANDARD
TZOFFSETFROM:+0200
TZOFFSETTO:+0100
TZNAME:CET
DTSTART:20261025T010000
END:STANDARD
BEGIN:DAYLIGHT
TZOFFSETFROM:+0100
TZOFFSETTO:+0200
TZNAME:CEST
DTSTART:20270328T010000
END:DAYLIGHT
BEGIN:STANDARD
TZOFFSETFROM:+0200
TZOFFSETTO:+0100
TZNAME:CET
DTSTART:20271031T010000
END:STANDARD
END:VTIMEZONE
BEGIN:VEVENT
DTSTART;TZID=Europe/Berlin:20260423T190000
DTEND;TZID=Europe/Berlin:20260423T190000
DTSTAMP:20260423T111005
CREATED:20260326T132137Z
LAST-MODIFIED:20260326T132148Z
UID:799-1776970800-1776970800@www.katarina-willems.de
SUMMARY:»Madonna mia! Moderne Musen und weibliche Wut«: Lesung & Gespräch mit Morgaine Prinz
DESCRIPTION:Abend der Feministischen Buchwoche 2026\n„Ich glaube\, wir haben wirklich größere Probleme zu lösen als eure Probleme mit der sogenannten ‚weiblichen Wut‘ […]. Bitte\, Mäuschen\, lass mich wütend sein.“ \nFür Morgaine Prinz bedeutet Feminismus\, Gleichberechtigung einzufordern und den Schulterschluss mit anderen Menschen\, die unter patriarchalen Strukturen leiden. Mit „Madonna Mia! Moderne Musen & „weibliche“ Wut“ verleiht sie genau diesem Verständnis ein künstlerisches Gewand\, und zwar getreu dieser Ansicht nicht als Einzelkämpferin\, sondern in Zusammenarbeit mit anderen. Das Buch\, das im Nachgang an eine Ausstellung entstanden ist\, vereint Schrift- und Bildkunst\, Collagen\, Malereien\, Poetry-Slam-Texte und ein Glossar zu feministischen Schlüsselbegriffen. \nMorgaine Prinz liest sich seit Ende 2019 mit ihren authentischen Erzählungen und präzisen Beobachtungen regelmäßig in die Herzen und vor allem unter die Haut ihres Publikums\, ohne dabei jedoch das Gefühl für gut platzierte Schmunzler zu vergessen. Innerhalb kürzester Zeit entwickelte sie sich zu einer der gefragtesten Poetinnen des Landes und trat bereits erfolgreich bei einigen Meister*innenschaften an. 2023 organisierte sie die NRW-Meisterschaft in Krefeld und gründete das Musenkollektiv – ein queerfeministisches Veranstaltungsteam für Poetry Slam-\, Comedy- und Kleinkunst-Formate in und um Düsseldorf. Seit 2020 fertigt sie außerdem analoge Collagen an\, die sich oft feministischen Themen widmen. \nMehr Infos: https://www.morgaineprinz.de/ \nAnmeldung unter:  koeln-bonn@buecherfrauen.de
URL:https://www.katarina-willems.de/termin/madonna-mia-moderne-musen-und-weibliche-wut-lesung-gespraech-mit-morgaine-prinz/
LOCATION:Allerweltshaus\, Geisselstraße 3-5\, Köln\, 50823
CATEGORIES:Moderation
END:VEVENT
END:VCALENDAR